BEGIN:VCALENDAR
VERSION:2.0
PRODID:-//Kiwanis Western Canada - ECPv6.15.20//NONSGML v1.0//EN
CALSCALE:GREGORIAN
METHOD:PUBLISH
X-ORIGINAL-URL:https://wecankiwanis.ca
X-WR-CALDESC:Events for Kiwanis Western Canada
REFRESH-INTERVAL;VALUE=DURATION:PT1H
X-Robots-Tag:noindex
X-PUBLISHED-TTL:PT1H
BEGIN:VTIMEZONE
TZID:America/Edmonton
BEGIN:DAYLIGHT
TZOFFSETFROM:-0700
TZOFFSETTO:-0600
TZNAME:MDT
DTSTART:20230312T090000
END:DAYLIGHT
BEGIN:STANDARD
TZOFFSETFROM:-0600
TZOFFSETTO:-0700
TZNAME:MST
DTSTART:20231105T080000
END:STANDARD
BEGIN:DAYLIGHT
TZOFFSETFROM:-0700
TZOFFSETTO:-0600
TZNAME:MDT
DTSTART:20240310T090000
END:DAYLIGHT
BEGIN:STANDARD
TZOFFSETFROM:-0600
TZOFFSETTO:-0700
TZNAME:MST
DTSTART:20241103T080000
END:STANDARD
BEGIN:DAYLIGHT
TZOFFSETFROM:-0700
TZOFFSETTO:-0600
TZNAME:MDT
DTSTART:20250309T090000
END:DAYLIGHT
BEGIN:STANDARD
TZOFFSETFROM:-0600
TZOFFSETTO:-0700
TZNAME:MST
DTSTART:20251102T080000
END:STANDARD
END:VTIMEZONE
BEGIN:VEVENT
DTSTART;VALUE=DATE:20240703
DTEND;VALUE=DATE:20240707
DTSTAMP:20260423T164119
CREATED:20240610T151429Z
LAST-MODIFIED:20240610T154530Z
UID:1709112-1719964800-1720310399@wecankiwanis.ca
SUMMARY:Kiwanis International Convention 2024 - Denver
DESCRIPTION:Play the Convention Intro Video by clicking here
URL:https://wecankiwanis.ca/event/kiwanis-international-convention/
CATEGORIES:District Events
ATTACH;FMTTYPE=image/png:https://wecankiwanis.ca/wp-content/uploads/2024/06/intl-conv-denver-july-2024-1.png
END:VEVENT
END:VCALENDAR